{"text_format":"1","workbook":"xlsx","n_sheets":2,"sheets":["Tabelle1","Invalidität"],"not_rendered":{"charts":1,"images":1,"macros":1,"external_links":0,"defined_names":1,"comments":0,"pivot_tables":0},"unopened":[],"bounds":{"document_bytes":16777216,"sheet_cells":100000,"rows_first":2000,"rows_last":500,"rows_between":2000,"halvings":0,"cell_chars":16384,"cell_head_chars":4096},"cells_cut":0,"cells_raw":0,"read":"whole","date_system":"1900"}

{"sheet":"Tabelle1","index":0,"n_rows":125,"n_cols":24,"rows_kept":125,"cut":false,"hidden":true,"merged":[]}
["Invaliditätsgrad","ohne Progression","Spitzenprogression","200 % Progression","225 % Progression","300 % Progression","350 % Progression","500 % Progression","1000 % Progression","Mehrleistung und Rente 5 ‰","Mehrleistung und Rente 10 %",null,"Invaliditätsgrad",{"$f":"IF($T$3>0,VLOOKUP($T$3,$V$2:$W$11,2,FALSE),\"\")","v":""},{"$f":"IF(T3>0,IF($T$4>9,\"zusätzliche Rentenleistung\",\"keine Rentenleistung\"),\"\")","v":""},{"$f":"IF(T7>0,VLOOKUP($T$7,$V$2:$W$11,2,FALSE),\"\")","v":""},null,null,"Auswahl",null,null,"Nr.","Staffel","Spalte"]
[0,0,0,0,0,0,0,0,0,0,0,null,0,{"$f":"IF(Invalidität!$I$14>$T$5,0,IF(AND($T$4=3,Invalidität!$I$14*(C2-A2*100)/100>200000),Invalidität!$I$14*M2+200000,Invalidität!$I$14*VLOOKUP(M2,$A$2:$K$102,$T$4,FALSE)/100))","v":{"$error":"#N/A"}},null,{"$f":"IF($T$10>$T$12,0,IF(AND($T$8=3,$T$10*(C2-A2*100)/100>200000),$T$10*M2+200000,$T$10*VLOOKUP(M2,$A$2:$K$102,$T$8,FALSE)/100))","v":{"$error":"#N/A"}},null,null,"Altersgruppe",{"$f":"Invalidität!$H$11","v":0},null,1,{"$f":"IF($T$2>0,B1,\"\")","v":""},{"$f":"IF($T$2>0,2,\"\")","v":""}]
[0.01,1,1,1,1,1,1,1,1,1,1,null,0.01,{"$f":"IF(Invalidität!$I$14>$T$5,0,IF(AND($T$4=3,Invalidität!$I$14*(C3-A3*100)/100>200000),Invalidität!$I$14*M3+200000,Invalidität!$I$14*VLOOKUP(M3,$A$2:$K$102,$T$4,FALSE)/100))","v":{"$error":"#N/A"}},null,{"$f":"IF($T$10>$T$12,0,IF(AND($T$8=3,$T$10*(C3-A3*100)/100>200000),$T$10*M3+200000,$T$10*VLOOKUP(M3,$A$2:$K$102,$T$8,FALSE)/100))","v":{"$error":"#N/A"}},null,null,"Progression",{"$f":"Invalidität!$H$21","v":0},null,2,{"$f":"IF($T$2>0,IF($T$2=3,K1,C1),\"\")","v":""},{"$f":"IF($T$2>0,IF($T$2=3,11,3),\"\")","v":""}]
[0.02,2,2,2,2,2,2,2,2,2,2,null,0.02,{"$f":"IF(Invalidität!$I$14>$T$5,0,IF(AND($T$4=3,Invalidität!$I$14*(C4-A4*100)/100>200000),Invalidität!$I$14*M4+200000,Invalidität!$I$14*VLOOKUP(M4,$A$2:$K$102,$T$4,FALSE)/100))","v":{"$error":"#N/A"}},null,{"$error":"#N/A"},null,null,"Prog-Spalte",{"$f":"VLOOKUP(T3,$V$2:$X$11,3,FALSE)","v":{"$error":"#N/A"}},null,3,{"$f":"IF($T$2>0,IF($T$2=3,\"\",D1),\"\")","v":""},{"$f":"IF($T$2>0,IF($T$2=3,\"\",4),\"\")","v":""}]
[0.03,3,3,3,3,3,3,3,3,3,3,null,0.03,{"$f":"IF(Invalidität!$I$14>$T$5,0,IF(AND($T$4=3,Invalidität!$I$14*(C5-A5*100)/100>200000),Invalidität!$I$14*M5+200000,Invalidität!$I$14*VLOOKUP(M5,$A$2:$K$102,$T$4,FALSE)/100))","v":{"$error":"#N/A"}},null,{"$error":"#N/A"},null,null,"Höchst-Vsu",{"$f":"VLOOKUP($T$2,$A$108:$K$110,VLOOKUP(T3,$V$2:$X$11,3,FALSE),FALSE)","v":{"$error":"#N/A"}},null,4,{"$f":"IF($T$2>0,IF($T$2=3,\"\",E1),\"\")","v":""},{"$f":"IF($T$2>0,IF($T$2=3,\"\",5),\"\")","v":""}]
[0.04,4,4,4,4,4,4,4,4,4,4,null,0.04,{"$f":"IF(Invalidität!$I$14>$T$5,0,IF(AND($T$4=3,Invalidität!$I$14*(C6-A6*100)/100>200000),Invalidität!$I$14*M6+200000,Invalidität!$I$14*VLOOKUP(M6,$A$2:$K$102,$T$4,FALSE)/100))","v":{"$error":"#N/A"}},null,{"$error":"#N/A"},null,null,"Voll-Inva",{"$f":"IF(AND($T$4=3,Invalidität!$I$14>200000),Invalidität!$I$14+200000,Invalidität!$I$14*VLOOKUP(\"Faktor\",$A$103:$K$103,$T$4,))","v":{"$error":"#N/A"}},null,5,{"$f":"IF($T$2>0,IF($T$2=3,\"\",F1),\"\")","v":""},{"$f":"IF($T$2>0,IF($T$2=3,\"\",6),\"\"\"\")","v":"\""}]
[0.05,5,5,5,5,5,5,5,5,5,5,null,0.05,{"$f":"IF(Invalidität!$I$14>$T$5,0,IF(AND($T$4=3,Invalidität!$I$14*(C7-A7*100)/100>200000),Invalidität!$I$14*M7+200000,Invalidität!$I$14*VLOOKUP(M7,$A$2:$K$102,$T$4,FALSE)/100))","v":{"$error":"#N/A"}},null,{"$error":"#N/A"},null,null,"AltProg",{"$f":"Invalidität!$H$24","v":0},null,6,{"$f":"IF($T$2>0,IF($T$2=3,\"\",G1),\"\")","v":""},{"$f":"IF($T$2>0,IF($T$2=3,\"\",7),\"\"\"\")","v":"\""}]
[0.06,6,6,6,6,6,6,6,6,6,6,null,0.06,{"$f":"IF(Invalidität!$I$14>$T$5,0,IF(AND($T$4=3,Invalidität!$I$14*(C8-A8*100)/100>200000),Invalidität!$I$14*M8+200000,Invalidität!$I$14*VLOOKUP(M8,$A$2:$K$102,$T$4,FALSE)/100))","v":{"$error":"#N/A"}},null,{"$error":"#N/A"},null,null,"AltProgSpalte",{"$f":"IF(T7>0,VLOOKUP(T7,$V$2:$X$11,3,FALSE),\"\")","v":""},null,7,{"$f":"IF($T$2>0,IF($T$2=3,\"\",H1),\"\")","v":""},{"$f":"IF($T$2>0,IF($T$2=3,\"\",8),\"\"\"\")","v":"\""}]
[7.0000000000000007E-2,7,7,7,7,7,7,7,7,7,7,null,7.0000000000000007E-2,{"$f":"IF(Invalidität!$I$14>$T$5,0,IF(AND($T$4=3,Invalidität!$I$14*(C9-A9*100)/100>200000),Invalidität!$I$14*M9+200000,Invalidität!$I$14*VLOOKUP(M9,$A$2:$K$102,$T$4,FALSE)/100))","v":{"$error":"#N/A"}},null,{"$error":"#N/A"},null,null,"AltBerechnung",{"$f":"Invalidität!$H$27","v":0},"gleiche Höchstleistung",8,{"$f":"IF($T$2>0,IF($T$2=3,\"\",I1),\"\")","v":""},{"$f":"IF($T$2>0,IF($T$2=3,\"\",9),\"\"\"\")","v":"\""}]
[0.08,8,8,8,8,8,8,8,8,8,8,null,0.08,{"$f":"IF(Invalidität!$I$14>$T$5,0,IF(AND($T$4=3,Invalidität!$I$14*(C10-A10*100)/100>200000),Invalidität!$I$14*M10+200000,Invalidität!$I$14*VLOOKUP(M10,$A$2:$K$102,$T$4,FALSE)/100))","v":{"$error":"#N/A"}},null,{"$error":"#N/A"},null,null,"AltInvalidität",{"$f":"IF(T9=1,IF(T4<10,IF(AND(T7=2,T6>400000),T6-200000,ROUND(T6/VLOOKUP(\"Faktor\",A103:K103,T8,FALSE),-3)),ROUND(Invalidität!I14/VLOOKUP(\"Faktor\",A103:K103,T8,FALSE),-3)),Invalidität!I14)","v":0},"gleiche Grund-Invalidität",9,{"$f":"IF($T$2>0,IF($T$2=3,\"\",J1),\"\")","v":""},{"$f":"IF($T$2>0,IF($T$2=3,\"\",10),\"\"\"\")","v":"\""}]
[0.09,9,9,9,9,9,9,9,9,9,9,null,0.09,{"$f":"IF(Invalidität!$I$14>$T$5,0,IF(AND($T$4=3,Invalidität!$I$14*(C11-A11*100)/100>200000),Invalidität!$I$14*M11+200000,Invalidität!$I$14*VLOOKUP(M11,$A$2:$K$102,$T$4,FALSE)/100))","v":{"$error":"#N/A"}},null,{"$error":"#N/A"},null,null,"AltVollinva",{"$f":"IF(AND($T$8=3,T10>200000),T10+200000,T10*VLOOKUP(\"Faktor\",$A$103:$K$103,$T$8))","v":{"$error":"#REF!"}},null,10,{"$f":"IF($T$2>0,IF($T$2=3,\"\",K1),\"\")","v":""},{"$f":"IF($T$2>0,IF($T$2=3,\"\",11),\"\"\"\")","v":"\""}]
[0.1,10,10,10,10,10,10,10,10,10,10,null,0.1,{"$f":"IF(Invalidität!$I$14>$T$5,0,IF(AND($T$4=3,Invalidität!$I$14*(C12-A12*100)/100>200000),Invalidität!$I$14*M12+200000,Invalidität!$I$14*VLOOKUP(M12,$A$2:$K$102,$T$4,FALSE)/100))","v":{"$error":"#N/A"}},null,{"$error":"#N/A"},null,null,"AltHöchstVsu",{"$f":"VLOOKUP($T$2,$A$108:$K$110,VLOOKUP(T7,$V$1:$X$11,3,FALSE),FALSE)","v":{"$error":"#N/A"}}]
[0.11,11,11,11,11,11,11,11,11,11,11,null,0.11,{"$f":"IF(Invalidität!$I$14>$T$5,0,IF(AND($T$4=3,Invalidität!$I$14*(C13-A13*100)/100>200000),Invalidität!$I$14*M13+200000,Invalidität!$I$14*VLOOKUP(M13,$A$2:$K$102,$T$4,FALSE)/100))","v":{"$error":"#N/A"}},null,{"$error":"#N/A"}]
[0.12,12,12,12,12,12,12,12,12,12,12,null,0.12,{"$f":"IF(Invalidität!$I$14>$T$5,0,IF(AND($T$4=3,Invalidität!$I$14*(C14-A14*100)/100>200000),Invalidität!$I$14*M14+200000,Invalidität!$I$14*VLOOKUP(M14,$A$2:$K$102,$T$4,FALSE)/100))","v":{"$error":"#N/A"}},null,{"$error":"#N/A"}]
[0.13,13,13,13,13,13,13,13,13,13,13,null,0.13,{"$f":"IF(Invalidität!$I$14>$T$5,0,IF(AND($T$4=3,Invalidität!$I$14*(C15-A15*100)/100>200000),Invalidität!$I$14*M15+200000,Invalidität!$I$14*VLOOKUP(M15,$A$2:$K$102,$T$4,FALSE)/100))","v":{"$error":"#N/A"}},null,{"$error":"#N/A"}]
[0.14000000000000001,14,14,14,14,14,14,14,14,14,14,null,0.14000000000000001,{"$f":"IF(Invalidität!$I$14>$T$5,0,IF(AND($T$4=3,Invalidität!$I$14*(C16-A16*100)/100>200000),Invalidität!$I$14*M16+200000,Invalidität!$I$14*VLOOKUP(M16,$A$2:$K$102,$T$4,FALSE)/100))","v":{"$error":"#N/A"}},null,{"$error":"#N/A"}]
[0.15,15,15,15,15,15,15,15,15,15,15,null,0.15,{"$f":"IF(Invalidität!$I$14>$T$5,0,IF(AND($T$4=3,Invalidität!$I$14*(C17-A17*100)/100>200000),Invalidität!$I$14*M17+200000,Invalidität!$I$14*VLOOKUP(M17,$A$2:$K$102,$T$4,FALSE)/100))","v":{"$error":"#N/A"}},null,{"$error":"#N/A"}]
[0.16,16,16,16,16,16,16,16,16,16,16,null,0.16,{"$f":"IF(Invalidität!$I$14>$T$5,0,IF(AND($T$4=3,Invalidität!$I$14*(C18-A18*100)/100>200000),Invalidität!$I$14*M18+200000,Invalidität!$I$14*VLOOKUP(M18,$A$2:$K$102,$T$4,FALSE)/100))","v":{"$error":"#N/A"}},null,{"$error":"#N/A"}]
[0.17,17,17,17,17,17,17,17,17,17,17,null,0.17,{"$f":"IF(Invalidität!$I$14>$T$5,0,IF(AND($T$4=3,Invalidität!$I$14*(C19-A19*100)/100>200000),Invalidität!$I$14*M19+200000,Invalidität!$I$14*VLOOKUP(M19,$A$2:$K$102,$T$4,FALSE)/100))","v":{"$error":"#N/A"}},null,{"$error":"#N/A"}]
[0.18,18,18,18,18,18,18,18,18,18,18,null,0.18,{"$f":"IF(Invalidität!$I$14>$T$5,0,IF(AND($T$4=3,Invalidität!$I$14*(C20-A20*100)/100>200000),Invalidität!$I$14*M20+200000,Invalidität!$I$14*VLOOKUP(M20,$A$2:$K$102,$T$4,FALSE)/100))","v":{"$error":"#N/A"}},null,{"$error":"#N/A"}]
[0.19,19,19,19,19,19,19,19,19,19,19,null,0.19,{"$f":"IF(Invalidität!$I$14>$T$5,0,IF(AND($T$4=3,Invalidität!$I$14*(C21-A21*100)/100>200000),Invalidität!$I$14*M21+200000,Invalidität!$I$14*VLOOKUP(M21,$A$2:$K$102,$T$4,FALSE)/100))","v":{"$error":"#N/A"}},null,{"$error":"#N/A"}]
[0.2,20,20,20,20,20,20,20,20,20,20,null,0.2,{"$f":"IF(Invalidität!$I$14>$T$5,0,IF(AND($T$4=3,Invalidität!$I$14*(C22-A22*100)/100>200000),Invalidität!$I$14*M22+200000,Invalidität!$I$14*VLOOKUP(M22,$A$2:$K$102,$T$4,FALSE)/100))","v":{"$error":"#N/A"}},null,{"$error":"#N/A"}]
[0.21,21,21,21,21,21,21,21,21,21,21,null,0.21,{"$f":"IF(Invalidität!$I$14>$T$5,0,IF(AND($T$4=3,Invalidität!$I$14*(C23-A23*100)/100>200000),Invalidität!$I$14*M23+200000,Invalidität!$I$14*VLOOKUP(M23,$A$2:$K$102,$T$4,FALSE)/100))","v":{"$error":"#N/A"}},null,{"$error":"#N/A"}]
[0.22,22,22,22,22,22,22,22,22,22,22,null,0.22,{"$f":"IF(Invalidität!$I$14>$T$5,0,IF(AND($T$4=3,Invalidität!$I$14*(C24-A24*100)/100>200000),Invalidität!$I$14*M24+200000,Invalidität!$I$14*VLOOKUP(M24,$A$2:$K$102,$T$4,FALSE)/100))","v":{"$error":"#N/A"}},null,{"$error":"#N/A"}]
[0.23,23,23,23,23,23,23,23,23,23,23,null,0.23,{"$f":"IF(Invalidität!$I$14>$T$5,0,IF(AND($T$4=3,Invalidität!$I$14*(C25-A25*100)/100>200000),Invalidität!$I$14*M25+200000,Invalidität!$I$14*VLOOKUP(M25,$A$2:$K$102,$T$4,FALSE)/100))","v":{"$error":"#N/A"}},null,{"$error":"#N/A"}]
[0.24,24,24,24,24,24,24,24,24,24,24,null,0.24,{"$f":"IF(Invalidität!$I$14>$T$5,0,IF(AND($T$4=3,Invalidität!$I$14*(C26-A26*100)/100>200000),Invalidität!$I$14*M26+200000,Invalidität!$I$14*VLOOKUP(M26,$A$2:$K$102,$T$4,FALSE)/100))","v":{"$error":"#N/A"}},null,{"$error":"#N/A"}]
[0.25,25,25,25,25,25,25,25,25,25,25,null,0.25,{"$f":"IF(Invalidität!$I$14>$T$5,0,IF(AND($T$4=3,Invalidität!$I$14*(C27-A27*100)/100>200000),Invalidität!$I$14*M27+200000,Invalidität!$I$14*VLOOKUP(M27,$A$2:$K$102,$T$4,FALSE)/100))","v":{"$error":"#N/A"}},null,{"$error":"#N/A"}]
[0.26,26,26,27,27,28,28,28,30,28,28,null,0.26,{"$f":"IF(Invalidität!$I$14>$T$5,0,IF(AND($T$4=3,Invalidität!$I$14*(C28-A28*100)/100>200000),Invalidität!$I$14*M28+200000,Invalidität!$I$14*VLOOKUP(M28,$A$2:$K$102,$T$4,FALSE)/100))","v":{"$error":"#N/A"}},null,{"$error":"#N/A"}]
[0.27,27,27,29,29,31,31,31,35,31,31,null,0.27,{"$f":"IF(Invalidität!$I$14>$T$5,0,IF(AND($T$4=3,Invalidität!$I$14*(C29-A29*100)/100>200000),Invalidität!$I$14*M29+200000,Invalidität!$I$14*VLOOKUP(M29,$A$2:$K$102,$T$4,FALSE)/100))","v":{"$error":"#N/A"}},null,{"$error":"#N/A"}]
[0.28000000000000003,28,28,31,31,34,34,34,40,34,34,null,0.28000000000000003,{"$f":"IF(Invalidität!$I$14>$T$5,0,IF(AND($T$4=3,Invalidität!$I$14*(C30-A30*100)/100>200000),Invalidität!$I$14*M30+200000,Invalidität!$I$14*VLOOKUP(M30,$A$2:$K$102,$T$4,FALSE)/100))","v":{"$error":"#N/A"}},null,{"$error":"#N/A"}]
[0.28999999999999998,29,29,33,33,37,37,37,45,37,37,null,0.28999999999999998,{"$f":"IF(Invalidität!$I$14>$T$5,0,IF(AND($T$4=3,Invalidität!$I$14*(C31-A31*100)/100>200000),Invalidität!$I$14*M31+200000,Invalidität!$I$14*VLOOKUP(M31,$A$2:$K$102,$T$4,FALSE)/100))","v":{"$error":"#N/A"}},null,{"$error":"#N/A"}]
[0.3,30,30,35,35,40,40,40,50,40,40,null,0.3,{"$f":"IF(Invalidität!$I$14>$T$5,0,IF(AND($T$4=3,Invalidität!$I$14*(C32-A32*100)/100>200000),Invalidität!$I$14*M32+200000,Invalidität!$I$14*VLOOKUP(M32,$A$2:$K$102,$T$4,FALSE)/100))","v":{"$error":"#N/A"}},null,{"$error":"#N/A"}]
[0.31,31,31,37,37,43,43,43,55,43,43,null,0.31,{"$f":"IF(Invalidität!$I$14>$T$5,0,IF(AND($T$4=3,Invalidität!$I$14*(C33-A33*100)/100>200000),Invalidität!$I$14*M33+200000,Invalidität!$I$14*VLOOKUP(M33,$A$2:$K$102,$T$4,FALSE)/100))","v":{"$error":"#N/A"}},null,{"$error":"#N/A"}]
[0.32,32,32,39,39,46,46,46,60,46,46,null,0.32,{"$f":"IF(Invalidität!$I$14>$T$5,0,IF(AND($T$4=3,Invalidität!$I$14*(C34-A34*100)/100>200000),Invalidität!$I$14*M34+200000,Invalidität!$I$14*VLOOKUP(M34,$A$2:$K$102,$T$4,FALSE)/100))","v":{"$error":"#N/A"}},null,{"$error":"#N/A"}]
[0.33,33,33,41,41,49,49,49,65,49,49,null,0.33,{"$f":"IF(Invalidität!$I$14>$T$5,0,IF(AND($T$4=3,Invalidität!$I$14*(C35-A35*100)/100>200000),Invalidität!$I$14*M35+200000,Invalidität!$I$14*VLOOKUP(M35,$A$2:$K$102,$T$4,FALSE)/100))","v":{"$error":"#N/A"}},null,{"$error":"#N/A"}]
[0.34,34,34,43,43,52,52,52,70,52,52,null,0.34,{"$f":"IF(Invalidität!$I$14>$T$5,0,IF(AND($T$4=3,Invalidität!$I$14*(C36-A36*100)/100>200000),Invalidität!$I$14*M36+200000,Invalidität!$I$14*VLOOKUP(M36,$A$2:$K$102,$T$4,FALSE)/100))","v":{"$error":"#N/A"}},null,{"$error":"#N/A"}]
[0.35,35,35,45,45,55,55,55,75,55,55,null,0.35,{"$f":"IF(Invalidität!$I$14>$T$5,0,IF(AND($T$4=3,Invalidität!$I$14*(C37-A37*100)/100>200000),Invalidität!$I$14*M37+200000,Invalidität!$I$14*VLOOKUP(M37,$A$2:$K$102,$T$4,FALSE)/100))","v":{"$error":"#N/A"}},null,{"$error":"#N/A"}]
[0.36,36,36,47,47,58,58,58,80,58,58,null,0.36,{"$f":"IF(Invalidität!$I$14>$T$5,0,IF(AND($T$4=3,Invalidität!$I$14*(C38-A38*100)/100>200000),Invalidität!$I$14*M38+200000,Invalidität!$I$14*VLOOKUP(M38,$A$2:$K$102,$T$4,FALSE)/100))","v":{"$error":"#N/A"}},null,{"$error":"#N/A"}]
[0.37,37,37,49,49,61,61,61,85,61,61,null,0.37,{"$f":"IF(Invalidität!$I$14>$T$5,0,IF(AND($T$4=3,Invalidität!$I$14*(C39-A39*100)/100>200000),Invalidität!$I$14*M39+200000,Invalidität!$I$14*VLOOKUP(M39,$A$2:$K$102,$T$4,FALSE)/100))","v":{"$error":"#N/A"}},null,{"$error":"#N/A"}]
[0.38,38,38,51,51,64,64,64,90,64,64,null,0.38,{"$f":"IF(Invalidität!$I$14>$T$5,0,IF(AND($T$4=3,Invalidität!$I$14*(C40-A40*100)/100>200000),Invalidität!$I$14*M40+200000,Invalidität!$I$14*VLOOKUP(M40,$A$2:$K$102,$T$4,FALSE)/100))","v":{"$error":"#N/A"}},null,{"$error":"#N/A"}]
[0.39,39,39,53,53,67,67,67,95,67,67,null,0.39,{"$f":"IF(Invalidität!$I$14>$T$5,0,IF(AND($T$4=3,Invalidität!$I$14*(C41-A41*100)/100>200000),Invalidität!$I$14*M41+200000,Invalidität!$I$14*VLOOKUP(M41,$A$2:$K$102,$T$4,FALSE)/100))","v":{"$error":"#N/A"}},null,{"$error":"#N/A"}]
[0.4,40,40,55,55,70,70,70,100,70,70,null,0.4,{"$f":"IF(Invalidität!$I$14>$T$5,0,IF(AND($T$4=3,Invalidität!$I$14*(C42-A42*100)/100>200000),Invalidität!$I$14*M42+200000,Invalidität!$I$14*VLOOKUP(M42,$A$2:$K$102,$T$4,FALSE)/100))","v":{"$error":"#N/A"}},null,{"$error":"#N/A"}]
[0.41,41,41,57,57,73,73,73,105,73,73,null,0.41,{"$f":"IF(Invalidität!$I$14>$T$5,0,IF(AND($T$4=3,Invalidität!$I$14*(C43-A43*100)/100>200000),Invalidität!$I$14*M43+200000,Invalidität!$I$14*VLOOKUP(M43,$A$2:$K$102,$T$4,FALSE)/100))","v":{"$error":"#N/A"}},null,{"$error":"#N/A"}]
[0.42,42,42,59,59,76,76,76,110,76,76,null,0.42,{"$f":"IF(Invalidität!$I$14>$T$5,0,IF(AND($T$4=3,Invalidität!$I$14*(C44-A44*100)/100>200000),Invalidität!$I$14*M44+200000,Invalidität!$I$14*VLOOKUP(M44,$A$2:$K$102,$T$4,FALSE)/100))","v":{"$error":"#N/A"}},null,{"$error":"#N/A"}]
[0.43,43,43,61,61,79,79,79,115,79,79,null,0.43,{"$f":"IF(Invalidität!$I$14>$T$5,0,IF(AND($T$4=3,Invalidität!$I$14*(C45-A45*100)/100>200000),Invalidität!$I$14*M45+200000,Invalidität!$I$14*VLOOKUP(M45,$A$2:$K$102,$T$4,FALSE)/100))","v":{"$error":"#N/A"}},null,{"$error":"#N/A"}]
[0.44,44,44,63,63,82,82,82,120,82,82,null,0.44,{"$f":"IF(Invalidität!$I$14>$T$5,0,IF(AND($T$4=3,Invalidität!$I$14*(C46-A46*100)/100>200000),Invalidität!$I$14*M46+200000,Invalidität!$I$14*VLOOKUP(M46,$A$2:$K$102,$T$4,FALSE)/100))","v":{"$error":"#N/A"}},null,{"$error":"#N/A"}]
[0.45,45,45,65,65,85,85,85,125,85,85,null,0.45,{"$f":"IF(Invalidität!$I$14>$T$5,0,IF(AND($T$4=3,Invalidität!$I$14*(C47-A47*100)/100>200000),Invalidität!$I$14*M47+200000,Invalidität!$I$14*VLOOKUP(M47,$A$2:$K$102,$T$4,FALSE)/100))","v":{"$error":"#N/A"}},null,{"$error":"#N/A"}]
[0.46,46,46,67,67,88,88,88,130,88,88,null,0.46,{"$f":"IF(Invalidität!$I$14>$T$5,0,IF(AND($T$4=3,Invalidität!$I$14*(C48-A48*100)/100>200000),Invalidität!$I$14*M48+200000,Invalidität!$I$14*VLOOKUP(M48,$A$2:$K$102,$T$4,FALSE)/100))","v":{"$error":"#N/A"}},null,{"$error":"#N/A"}]
[0.47,47,47,69,69,91,91,91,135,91,91,null,0.47,{"$f":"IF(Invalidität!$I$14>$T$5,0,IF(AND($T$4=3,Invalidität!$I$14*(C49-A49*100)/100>200000),Invalidität!$I$14*M49+200000,Invalidität!$I$14*VLOOKUP(M49,$A$2:$K$102,$T$4,FALSE)/100))","v":{"$error":"#N/A"}},null,{"$error":"#N/A"}]
[0.48,48,48,71,71,94,94,94,140,94,94,null,0.48,{"$f":"IF(Invalidität!$I$14>$T$5,0,IF(AND($T$4=3,Invalidität!$I$14*(C50-A50*100)/100>200000),Invalidität!$I$14*M50+200000,Invalidität!$I$14*VLOOKUP(M50,$A$2:$K$102,$T$4,FALSE)/100))","v":{"$error":"#N/A"}},null,{"$error":"#N/A"}]
[0.49,49,49,73,73,97,97,97,145,97,97,null,0.49,{"$f":"IF(Invalidität!$I$14>$T$5,0,IF(AND($T$4=3,Invalidität!$I$14*(C51-A51*100)/100>200000),Invalidität!$I$14*M51+200000,Invalidität!$I$14*VLOOKUP(M51,$A$2:$K$102,$T$4,FALSE)/100))","v":{"$error":"#N/A"}},null,{"$error":"#N/A"}]
[0.5,50,50,75,75,100,100,100,150,100,100,null,0.5,{"$f":"IF(Invalidität!$I$14>$T$5,0,IF(AND($T$4=3,Invalidität!$I$14*(C52-A52*100)/100>200000),Invalidität!$I$14*M52+200000,Invalidität!$I$14*VLOOKUP(M52,$A$2:$K$102,$T$4,FALSE)/100))","v":{"$error":"#N/A"}},{"$f":"IF(Invalidität!$I$14>Tabelle1!$T$5,0,IF($T$4=10,N52*0.005,IF($T$4=11,N52*0.1,\"\")))","v":{"$error":"#N/A"}},{"$error":"#N/A"}]
[0.51,51,51,77,78,104,105,108,160,100,100,null,0.51,{"$f":"IF(Invalidität!$I$14>$T$5,0,IF(AND($T$4=3,Invalidität!$I$14*(C53-A53*100)/100>200000),Invalidität!$I$14*M53+200000,Invalidität!$I$14*VLOOKUP(M53,$A$2:$K$102,$T$4,FALSE)/100))","v":{"$error":"#N/A"}},{"$f":"IF(Invalidität!$I$14>Tabelle1!$T$5,0,IF($T$4=10,N53*0.005,IF($T$4=11,N53*0.1,\"\")))","v":{"$error":"#N/A"}},{"$error":"#N/A"}]
[0.52,52,52,79,81,108,110,116,170,100,100,null,0.52,{"$f":"IF(Invalidität!$I$14>$T$5,0,IF(AND($T$4=3,Invalidität!$I$14*(C54-A54*100)/100>200000),Invalidität!$I$14*M54+200000,Invalidität!$I$14*VLOOKUP(M54,$A$2:$K$102,$T$4,FALSE)/100))","v":{"$error":"#N/A"}},{"$f":"IF(Invalidität!$I$14>Tabelle1!$T$5,0,IF($T$4=10,N54*0.005,IF($T$4=11,N54*0.1,\"\")))","v":{"$error":"#N/A"}},{"$error":"#N/A"}]
[0.53,53,53,81,84,112,115,124,180,100,100,null,0.53,{"$f":"IF(Invalidität!$I$14>$T$5,0,IF(AND($T$4=3,Invalidität!$I$14*(C55-A55*100)/100>200000),Invalidität!$I$14*M55+200000,Invalidität!$I$14*VLOOKUP(M55,$A$2:$K$102,$T$4,FALSE)/100))","v":{"$error":"#N/A"}},{"$f":"IF(Invalidität!$I$14>Tabelle1!$T$5,0,IF($T$4=10,N55*0.005,IF($T$4=11,N55*0.1,\"\")))","v":{"$error":"#N/A"}},{"$error":"#N/A"}]
[0.54,54,54,83,87,116,120,132,190,100,100,null,0.54,{"$f":"IF(Invalidität!$I$14>$T$5,0,IF(AND($T$4=3,Invalidität!$I$14*(C56-A56*100)/100>200000),Invalidität!$I$14*M56+200000,Invalidität!$I$14*VLOOKUP(M56,$A$2:$K$102,$T$4,FALSE)/100))","v":{"$error":"#N/A"}},{"$f":"IF(Invalidität!$I$14>Tabelle1!$T$5,0,IF($T$4=10,N56*0.005,IF($T$4=11,N56*0.1,\"\")))","v":{"$error":"#N/A"}},{"$error":"#N/A"}]
[0.55000000000000004,55,55,85,90,120,125,140,200,100,100,null,0.55000000000000004,{"$f":"IF(Invalidität!$I$14>$T$5,0,IF(AND($T$4=3,Invalidität!$I$14*(C57-A57*100)/100>200000),Invalidität!$I$14*M57+200000,Invalidität!$I$14*VLOOKUP(M57,$A$2:$K$102,$T$4,FALSE)/100))","v":{"$error":"#N/A"}},{"$f":"IF(Invalidität!$I$14>Tabelle1!$T$5,0,IF($T$4=10,N57*0.005,IF($T$4=11,N57*0.1,\"\")))","v":{"$error":"#N/A"}},{"$error":"#N/A"}]
[0.56000000000000005,56,56,87,93,124,130,148,210,100,100,null,0.56000000000000005,{"$f":"IF(Invalidität!$I$14>$T$5,0,IF(AND($T$4=3,Invalidität!$I$14*(C58-A58*100)/100>200000),Invalidität!$I$14*M58+200000,Invalidität!$I$14*VLOOKUP(M58,$A$2:$K$102,$T$4,FALSE)/100))","v":{"$error":"#N/A"}},{"$f":"IF(Invalidität!$I$14>Tabelle1!$T$5,0,IF($T$4=10,N58*0.005,IF($T$4=11,N58*0.1,\"\")))","v":{"$error":"#N/A"}},{"$error":"#N/A"}]
[0.56999999999999995,57,57,89,96,128,135,156,220,100,100,null,0.56999999999999995,{"$f":"IF(Invalidität!$I$14>$T$5,0,IF(AND($T$4=3,Invalidität!$I$14*(C59-A59*100)/100>200000),Invalidität!$I$14*M59+200000,Invalidität!$I$14*VLOOKUP(M59,$A$2:$K$102,$T$4,FALSE)/100))","v":{"$error":"#N/A"}},{"$f":"IF(Invalidität!$I$14>Tabelle1!$T$5,0,IF($T$4=10,N59*0.005,IF($T$4=11,N59*0.1,\"\")))","v":{"$error":"#N/A"}},{"$error":"#N/A"}]
[0.57999999999999996,58,58,91,99,132,140,164,230,100,100,null,0.57999999999999996,{"$f":"IF(Invalidität!$I$14>$T$5,0,IF(AND($T$4=3,Invalidität!$I$14*(C60-A60*100)/100>200000),Invalidität!$I$14*M60+200000,Invalidität!$I$14*VLOOKUP(M60,$A$2:$K$102,$T$4,FALSE)/100))","v":{"$error":"#N/A"}},{"$f":"IF(Invalidität!$I$14>Tabelle1!$T$5,0,IF($T$4=10,N60*0.005,IF($T$4=11,N60*0.1,\"\")))","v":{"$error":"#N/A"}},{"$error":"#N/A"}]
[0.59,59,59,93,102,136,145,172,240,100,100,null,0.59,{"$f":"IF(Invalidität!$I$14>$T$5,0,IF(AND($T$4=3,Invalidität!$I$14*(C61-A61*100)/100>200000),Invalidität!$I$14*M61+200000,Invalidität!$I$14*VLOOKUP(M61,$A$2:$K$102,$T$4,FALSE)/100))","v":{"$error":"#N/A"}},{"$f":"IF(Invalidität!$I$14>Tabelle1!$T$5,0,IF($T$4=10,N61*0.005,IF($T$4=11,N61*0.1,\"\")))","v":{"$error":"#N/A"}},{"$error":"#N/A"}]
[0.6,60,60,95,105,140,150,180,250,100,100,null,0.6,{"$f":"IF(Invalidität!$I$14>$T$5,0,IF(AND($T$4=3,Invalidität!$I$14*(C62-A62*100)/100>200000),Invalidität!$I$14*M62+200000,Invalidität!$I$14*VLOOKUP(M62,$A$2:$K$102,$T$4,FALSE)/100))","v":{"$error":"#N/A"}},{"$f":"IF(Invalidität!$I$14>Tabelle1!$T$5,0,IF($T$4=10,N62*0.005,IF($T$4=11,N62*0.1,\"\")))","v":{"$error":"#N/A"}},{"$error":"#N/A"}]
[0.61,61,61,97,108,144,155,188,260,100,100,null,0.61,{"$f":"IF(Invalidität!$I$14>$T$5,0,IF(AND($T$4=3,Invalidität!$I$14*(C63-A63*100)/100>200000),Invalidität!$I$14*M63+200000,Invalidität!$I$14*VLOOKUP(M63,$A$2:$K$102,$T$4,FALSE)/100))","v":{"$error":"#N/A"}},{"$f":"IF(Invalidität!$I$14>Tabelle1!$T$5,0,IF($T$4=10,N63*0.005,IF($T$4=11,N63*0.1,\"\")))","v":{"$error":"#N/A"}},{"$error":"#N/A"}]
[0.62,62,62,99,111,148,160,196,270,100,100,null,0.62,{"$f":"IF(Invalidität!$I$14>$T$5,0,IF(AND($T$4=3,Invalidität!$I$14*(C64-A64*100)/100>200000),Invalidität!$I$14*M64+200000,Invalidität!$I$14*VLOOKUP(M64,$A$2:$K$102,$T$4,FALSE)/100))","v":{"$error":"#N/A"}},{"$f":"IF(Invalidität!$I$14>Tabelle1!$T$5,0,IF($T$4=10,N64*0.005,IF($T$4=11,N64*0.1,\"\")))","v":{"$error":"#N/A"}},{"$error":"#N/A"}]
[0.63,63,63,101,114,152,165,204,280,100,100,null,0.63,{"$f":"IF(Invalidität!$I$14>$T$5,0,IF(AND($T$4=3,Invalidität!$I$14*(C65-A65*100)/100>200000),Invalidität!$I$14*M65+200000,Invalidität!$I$14*VLOOKUP(M65,$A$2:$K$102,$T$4,FALSE)/100))","v":{"$error":"#N/A"}},{"$f":"IF(Invalidität!$I$14>Tabelle1!$T$5,0,IF($T$4=10,N65*0.005,IF($T$4=11,N65*0.1,\"\")))","v":{"$error":"#N/A"}},{"$error":"#N/A"}]
[0.64,64,64,103,117,156,170,212,290,100,100,null,0.64,{"$f":"IF(Invalidität!$I$14>$T$5,0,IF(AND($T$4=3,Invalidität!$I$14*(C66-A66*100)/100>200000),Invalidität!$I$14*M66+200000,Invalidität!$I$14*VLOOKUP(M66,$A$2:$K$102,$T$4,FALSE)/100))","v":{"$error":"#N/A"}},{"$f":"IF(Invalidität!$I$14>Tabelle1!$T$5,0,IF($T$4=10,N66*0.005,IF($T$4=11,N66*0.1,\"\")))","v":{"$error":"#N/A"}},{"$error":"#N/A"}]
[0.65,65,65,105,120,160,175,220,300,100,100,null,0.65,{"$f":"IF(Invalidität!$I$14>$T$5,0,IF(AND($T$4=3,Invalidität!$I$14*(C67-A67*100)/100>200000),Invalidität!$I$14*M67+200000,Invalidität!$I$14*VLOOKUP(M67,$A$2:$K$102,$T$4,FALSE)/100))","v":{"$error":"#N/A"}},{"$f":"IF(Invalidität!$I$14>Tabelle1!$T$5,0,IF($T$4=10,N67*0.005,IF($T$4=11,N67*0.1,\"\")))","v":{"$error":"#N/A"}},{"$f":"IF($T$10>$T$12,0,IF(AND($T$8=3,$T$10*(C67-A67*100)/100>200000),$T$10*M67+200000,$T$10*VLOOKUP(M67,$A$2:$K$102,$T$8,FALSE)/100))","v":{"$error":"#N/A"}}]
[0.66,66,66,107,123,164,180,228,310,100,100,null,0.66,{"$f":"IF(Invalidität!$I$14>$T$5,0,IF(AND($T$4=3,Invalidität!$I$14*(C68-A68*100)/100>200000),Invalidität!$I$14*M68+200000,Invalidität!$I$14*VLOOKUP(M68,$A$2:$K$102,$T$4,FALSE)/100))","v":{"$error":"#N/A"}},{"$f":"IF(Invalidität!$I$14>Tabelle1!$T$5,0,IF($T$4=10,N68*0.005,IF($T$4=11,N68*0.1,\"\")))","v":{"$error":"#N/A"}},{"$error":"#N/A"}]
[0.67,67,67,109,126,168,185,236,320,100,100,null,0.67,{"$f":"IF(Invalidität!$I$14>$T$5,0,IF(AND($T$4=3,Invalidität!$I$14*(C69-A69*100)/100>200000),Invalidität!$I$14*M69+200000,Invalidität!$I$14*VLOOKUP(M69,$A$2:$K$102,$T$4,FALSE)/100))","v":{"$error":"#N/A"}},{"$f":"IF(Invalidität!$I$14>Tabelle1!$T$5,0,IF($T$4=10,N69*0.005,IF($T$4=11,N69*0.1,\"\")))","v":{"$error":"#N/A"}},{"$error":"#N/A"}]
[0.68,68,68,111,129,172,190,244,330,100,100,null,0.68,{"$f":"IF(Invalidität!$I$14>$T$5,0,IF(AND($T$4=3,Invalidität!$I$14*(C70-A70*100)/100>200000),Invalidität!$I$14*M70+200000,Invalidität!$I$14*VLOOKUP(M70,$A$2:$K$102,$T$4,FALSE)/100))","v":{"$error":"#N/A"}},{"$f":"IF(Invalidität!$I$14>Tabelle1!$T$5,0,IF($T$4=10,N70*0.005,IF($T$4=11,N70*0.1,\"\")))","v":{"$error":"#N/A"}},{"$error":"#N/A"}]
[0.69,69,69,113,132,176,195,252,340,100,100,null,0.69,{"$f":"IF(Invalidität!$I$14>$T$5,0,IF(AND($T$4=3,Invalidität!$I$14*(C71-A71*100)/100>200000),Invalidität!$I$14*M71+200000,Invalidität!$I$14*VLOOKUP(M71,$A$2:$K$102,$T$4,FALSE)/100))","v":{"$error":"#N/A"}},{"$f":"IF(Invalidität!$I$14>Tabelle1!$T$5,0,IF($T$4=10,N71*0.005,IF($T$4=11,N71*0.1,\"\")))","v":{"$error":"#N/A"}},{"$error":"#N/A"}]
[0.7,70,70,115,135,180,200,260,350,100,100,null,0.7,{"$f":"IF(Invalidität!$I$14>$T$5,0,IF(AND($T$4=3,Invalidität!$I$14*(C72-A72*100)/100>200000),Invalidität!$I$14*M72+200000,Invalidität!$I$14*VLOOKUP(M72,$A$2:$K$102,$T$4,FALSE)/100))","v":{"$error":"#N/A"}},{"$f":"IF(Invalidität!$I$14>Tabelle1!$T$5,0,IF($T$4=10,N72*0.005,IF($T$4=11,N72*0.1,\"\")))","v":{"$error":"#N/A"}},{"$error":"#N/A"}]
[0.71,71,71,117,138,184,205,268,360,100,100,null,0.71,{"$f":"IF(Invalidität!$I$14>$T$5,0,IF(AND($T$4=3,Invalidität!$I$14*(C73-A73*100)/100>200000),Invalidität!$I$14*M73+200000,Invalidität!$I$14*VLOOKUP(M73,$A$2:$K$102,$T$4,FALSE)/100))","v":{"$error":"#N/A"}},{"$f":"IF(Invalidität!$I$14>Tabelle1!$T$5,0,IF($T$4=10,N73*0.005,IF($T$4=11,N73*0.1,\"\")))","v":{"$error":"#N/A"}},{"$error":"#N/A"}]
[0.72,72,72,119,141,188,210,276,370,100,100,null,0.72,{"$f":"IF(Invalidität!$I$14>$T$5,0,IF(AND($T$4=3,Invalidität!$I$14*(C74-A74*100)/100>200000),Invalidität!$I$14*M74+200000,Invalidität!$I$14*VLOOKUP(M74,$A$2:$K$102,$T$4,FALSE)/100))","v":{"$error":"#N/A"}},{"$f":"IF(Invalidität!$I$14>Tabelle1!$T$5,0,IF($T$4=10,N74*0.005,IF($T$4=11,N74*0.1,\"\")))","v":{"$error":"#N/A"}},{"$error":"#N/A"}]
[0.73,73,73,121,144,192,215,284,380,100,100,null,0.73,{"$f":"IF(Invalidität!$I$14>$T$5,0,IF(AND($T$4=3,Invalidität!$I$14*(C75-A75*100)/100>200000),Invalidität!$I$14*M75+200000,Invalidität!$I$14*VLOOKUP(M75,$A$2:$K$102,$T$4,FALSE)/100))","v":{"$error":"#N/A"}},{"$f":"IF(Invalidität!$I$14>Tabelle1!$T$5,0,IF($T$4=10,N75*0.005,IF($T$4=11,N75*0.1,\"\")))","v":{"$error":"#N/A"}},{"$error":"#N/A"}]
[0.74,74,74,123,147,196,220,292,390,100,100,null,0.74,{"$f":"IF(Invalidität!$I$14>$T$5,0,IF(AND($T$4=3,Invalidität!$I$14*(C76-A76*100)/100>200000),Invalidität!$I$14*M76+200000,Invalidität!$I$14*VLOOKUP(M76,$A$2:$K$102,$T$4,FALSE)/100))","v":{"$error":"#N/A"}},{"$f":"IF(Invalidität!$I$14>Tabelle1!$T$5,0,IF($T$4=10,N76*0.005,IF($T$4=11,N76*0.1,\"\")))","v":{"$error":"#N/A"}},{"$error":"#N/A"}]
[0.75,75,75,125,150,200,225,300,400,100,100,null,0.75,{"$f":"IF(Invalidität!$I$14>$T$5,0,IF(AND($T$4=3,Invalidität!$I$14*(C77-A77*100)/100>200000),Invalidität!$I$14*M77+200000,Invalidität!$I$14*VLOOKUP(M77,$A$2:$K$102,$T$4,FALSE)/100))","v":{"$error":"#N/A"}},{"$f":"IF(Invalidität!$I$14>Tabelle1!$T$5,0,IF($T$4=10,N77*0.005,IF($T$4=11,N77*0.1,\"\")))","v":{"$error":"#N/A"}},{"$error":"#N/A"}]
[0.76,76,80,128,153,204,230,308,424,100,100,null,0.76,{"$f":"IF(Invalidität!$I$14>$T$5,0,IF(AND($T$4=3,Invalidität!$I$14*(C78-A78*100)/100>200000),Invalidität!$I$14*M78+200000,Invalidität!$I$14*VLOOKUP(M78,$A$2:$K$102,$T$4,FALSE)/100))","v":{"$error":"#N/A"}},{"$f":"IF(Invalidität!$I$14>Tabelle1!$T$5,0,IF($T$4=10,N78*0.005,IF($T$4=11,N78*0.1,\"\")))","v":{"$error":"#N/A"}},{"$error":"#N/A"}]
[0.77,77,85,131,156,208,235,316,448,100,100,null,0.77,{"$f":"IF(Invalidität!$I$14>$T$5,0,IF(AND($T$4=3,Invalidität!$I$14*(C79-A79*100)/100>200000),Invalidität!$I$14*M79+200000,Invalidität!$I$14*VLOOKUP(M79,$A$2:$K$102,$T$4,FALSE)/100))","v":{"$error":"#N/A"}},{"$f":"IF(Invalidität!$I$14>Tabelle1!$T$5,0,IF($T$4=10,N79*0.005,IF($T$4=11,N79*0.1,\"\")))","v":{"$error":"#N/A"}},{"$error":"#N/A"}]
[0.78,78,90,134,159,212,240,324,472,100,100,null,0.78,{"$f":"IF(Invalidität!$I$14>$T$5,0,IF(AND($T$4=3,Invalidität!$I$14*(C80-A80*100)/100>200000),Invalidität!$I$14*M80+200000,Invalidität!$I$14*VLOOKUP(M80,$A$2:$K$102,$T$4,FALSE)/100))","v":{"$error":"#N/A"}},{"$f":"IF(Invalidität!$I$14>Tabelle1!$T$5,0,IF($T$4=10,N80*0.005,IF($T$4=11,N80*0.1,\"\")))","v":{"$error":"#N/A"}},{"$error":"#N/A"}]
[0.79,79,95,137,162,216,245,332,496,100,100,null,0.79,{"$f":"IF(Invalidität!$I$14>$T$5,0,IF(AND($T$4=3,Invalidität!$I$14*(C81-A81*100)/100>200000),Invalidität!$I$14*M81+200000,Invalidität!$I$14*VLOOKUP(M81,$A$2:$K$102,$T$4,FALSE)/100))","v":{"$error":"#N/A"}},{"$f":"IF(Invalidität!$I$14>Tabelle1!$T$5,0,IF($T$4=10,N81*0.005,IF($T$4=11,N81*0.1,\"\")))","v":{"$error":"#N/A"}},{"$error":"#N/A"}]
[0.8,80,100,140,165,220,250,340,520,100,100,null,0.8,{"$f":"IF(Invalidität!$I$14>$T$5,0,IF(AND($T$4=3,Invalidität!$I$14*(C82-A82*100)/100>200000),Invalidität!$I$14*M82+200000,Invalidität!$I$14*VLOOKUP(M82,$A$2:$K$102,$T$4,FALSE)/100))","v":{"$error":"#N/A"}},{"$f":"IF(Invalidität!$I$14>Tabelle1!$T$5,0,IF($T$4=10,N82*0.005,IF($T$4=11,N82*0.1,\"\")))","v":{"$error":"#N/A"}},{"$error":"#N/A"}]
[0.81,81,105,143,168,224,255,348,544,100,100,null,0.81,{"$f":"IF(Invalidität!$I$14>$T$5,0,IF(AND($T$4=3,Invalidität!$I$14*(C83-A83*100)/100>200000),Invalidität!$I$14*M83+200000,Invalidität!$I$14*VLOOKUP(M83,$A$2:$K$102,$T$4,FALSE)/100))","v":{"$error":"#N/A"}},{"$f":"IF(Invalidität!$I$14>Tabelle1!$T$5,0,IF($T$4=10,N83*0.005,IF($T$4=11,N83*0.1,\"\")))","v":{"$error":"#N/A"}},{"$error":"#N/A"}]
[0.82,82,110,146,171,228,260,356,568,100,100,null,0.82,{"$f":"IF(Invalidität!$I$14>$T$5,0,IF(AND($T$4=3,Invalidität!$I$14*(C84-A84*100)/100>200000),Invalidität!$I$14*M84+200000,Invalidität!$I$14*VLOOKUP(M84,$A$2:$K$102,$T$4,FALSE)/100))","v":{"$error":"#N/A"}},{"$f":"IF(Invalidität!$I$14>Tabelle1!$T$5,0,IF($T$4=10,N84*0.005,IF($T$4=11,N84*0.1,\"\")))","v":{"$error":"#N/A"}},{"$error":"#N/A"}]
[0.83,83,115,149,174,232,265,364,592,100,100,null,0.83,{"$f":"IF(Invalidität!$I$14>$T$5,0,IF(AND($T$4=3,Invalidität!$I$14*(C85-A85*100)/100>200000),Invalidität!$I$14*M85+200000,Invalidität!$I$14*VLOOKUP(M85,$A$2:$K$102,$T$4,FALSE)/100))","v":{"$error":"#N/A"}},{"$f":"IF(Invalidität!$I$14>Tabelle1!$T$5,0,IF($T$4=10,N85*0.005,IF($T$4=11,N85*0.1,\"\")))","v":{"$error":"#N/A"}},{"$error":"#N/A"}]
[0.84,84,120,152,177,236,270,372,616,100,100,null,0.84,{"$f":"IF(Invalidität!$I$14>$T$5,0,IF(AND($T$4=3,Invalidität!$I$14*(C86-A86*100)/100>200000),Invalidität!$I$14*M86+200000,Invalidität!$I$14*VLOOKUP(M86,$A$2:$K$102,$T$4,FALSE)/100))","v":{"$error":"#N/A"}},{"$f":"IF(Invalidität!$I$14>Tabelle1!$T$5,0,IF($T$4=10,N86*0.005,IF($T$4=11,N86*0.1,\"\")))","v":{"$error":"#N/A"}},{"$error":"#N/A"}]
[0.85,85,125,155,180,240,275,380,640,100,100,null,0.85,{"$f":"IF(Invalidität!$I$14>$T$5,0,IF(AND($T$4=3,Invalidität!$I$14*(C87-A87*100)/100>200000),Invalidität!$I$14*M87+200000,Invalidität!$I$14*VLOOKUP(M87,$A$2:$K$102,$T$4,FALSE)/100))","v":{"$error":"#N/A"}},{"$f":"IF(Invalidität!$I$14>Tabelle1!$T$5,0,IF($T$4=10,N87*0.005,IF($T$4=11,N87*0.1,\"\")))","v":{"$error":"#N/A"}},{"$error":"#N/A"}]
[0.86,86,130,158,183,244,280,388,664,100,100,null,0.86,{"$f":"IF(Invalidität!$I$14>$T$5,0,IF(AND($T$4=3,Invalidität!$I$14*(C88-A88*100)/100>200000),Invalidität!$I$14*M88+200000,Invalidität!$I$14*VLOOKUP(M88,$A$2:$K$102,$T$4,FALSE)/100))","v":{"$error":"#N/A"}},{"$f":"IF(Invalidität!$I$14>Tabelle1!$T$5,0,IF($T$4=10,N88*0.005,IF($T$4=11,N88*0.1,\"\")))","v":{"$error":"#N/A"}},{"$error":"#N/A"}]
[0.87,87,135,161,186,248,285,396,688,100,100,null,0.87,{"$f":"IF(Invalidität!$I$14>$T$5,0,IF(AND($T$4=3,Invalidität!$I$14*(C89-A89*100)/100>200000),Invalidität!$I$14*M89+200000,Invalidität!$I$14*VLOOKUP(M89,$A$2:$K$102,$T$4,FALSE)/100))","v":{"$error":"#N/A"}},{"$f":"IF(Invalidität!$I$14>Tabelle1!$T$5,0,IF($T$4=10,N89*0.005,IF($T$4=11,N89*0.1,\"\")))","v":{"$error":"#N/A"}},{"$error":"#N/A"}]
[0.88,88,140,164,189,252,290,404,712,100,100,null,0.88,{"$f":"IF(Invalidität!$I$14>$T$5,0,IF(AND($T$4=3,Invalidität!$I$14*(C90-A90*100)/100>200000),Invalidität!$I$14*M90+200000,Invalidität!$I$14*VLOOKUP(M90,$A$2:$K$102,$T$4,FALSE)/100))","v":{"$error":"#N/A"}},{"$f":"IF(Invalidität!$I$14>Tabelle1!$T$5,0,IF($T$4=10,N90*0.005,IF($T$4=11,N90*0.1,\"\")))","v":{"$error":"#N/A"}},{"$error":"#N/A"}]
[0.89,89,145,167,192,256,295,412,736,100,100,null,0.89,{"$f":"IF(Invalidität!$I$14>$T$5,0,IF(AND($T$4=3,Invalidität!$I$14*(C91-A91*100)/100>200000),Invalidität!$I$14*M91+200000,Invalidität!$I$14*VLOOKUP(M91,$A$2:$K$102,$T$4,FALSE)/100))","v":{"$error":"#N/A"}},{"$f":"IF(Invalidität!$I$14>Tabelle1!$T$5,0,IF($T$4=10,N91*0.005,IF($T$4=11,N91*0.1,\"\")))","v":{"$error":"#N/A"}},{"$error":"#N/A"}]
[0.9,90,150,170,195,260,300,420,760,100,100,null,0.9,{"$f":"IF(Invalidität!$I$14>$T$5,0,IF(AND($T$4=3,Invalidität!$I$14*(C92-A92*100)/100>200000),Invalidität!$I$14*M92+200000,Invalidität!$I$14*VLOOKUP(M92,$A$2:$K$102,$T$4,FALSE)/100))","v":{"$error":"#N/A"}},{"$f":"IF(Invalidität!$I$14>Tabelle1!$T$5,0,IF($T$4=10,N92*0.005,IF($T$4=11,N92*0.1,\"\")))","v":{"$error":"#N/A"}},{"$error":"#N/A"}]
[0.91,91,155,173,198,264,305,428,784,100,100,null,0.91,{"$f":"IF(Invalidität!$I$14>$T$5,0,IF(AND($T$4=3,Invalidität!$I$14*(C93-A93*100)/100>200000),Invalidität!$I$14*M93+200000,Invalidität!$I$14*VLOOKUP(M93,$A$2:$K$102,$T$4,FALSE)/100))","v":{"$error":"#N/A"}},{"$f":"IF(Invalidität!$I$14>Tabelle1!$T$5,0,IF($T$4=10,N93*0.005,IF($T$4=11,N93*0.1,\"\")))","v":{"$error":"#N/A"}},{"$error":"#N/A"}]
[0.92,92,160,176,201,268,310,436,808,100,100,null,0.92,{"$f":"IF(Invalidität!$I$14>$T$5,0,IF(AND($T$4=3,Invalidität!$I$14*(C94-A94*100)/100>200000),Invalidität!$I$14*M94+200000,Invalidität!$I$14*VLOOKUP(M94,$A$2:$K$102,$T$4,FALSE)/100))","v":{"$error":"#N/A"}},{"$f":"IF(Invalidität!$I$14>Tabelle1!$T$5,0,IF($T$4=10,N94*0.005,IF($T$4=11,N94*0.1,\"\")))","v":{"$error":"#N/A"}},{"$error":"#N/A"}]
[0.93,93,165,179,204,272,315,444,832,100,100,null,0.93,{"$f":"IF(Invalidität!$I$14>$T$5,0,IF(AND($T$4=3,Invalidität!$I$14*(C95-A95*100)/100>200000),Invalidität!$I$14*M95+200000,Invalidität!$I$14*VLOOKUP(M95,$A$2:$K$102,$T$4,FALSE)/100))","v":{"$error":"#N/A"}},{"$f":"IF(Invalidität!$I$14>Tabelle1!$T$5,0,IF($T$4=10,N95*0.005,IF($T$4=11,N95*0.1,\"\")))","v":{"$error":"#N/A"}},{"$error":"#N/A"}]
[0.94,94,170,182,207,276,320,452,856,100,100,null,0.94,{"$f":"IF(Invalidität!$I$14>$T$5,0,IF(AND($T$4=3,Invalidität!$I$14*(C96-A96*100)/100>200000),Invalidität!$I$14*M96+200000,Invalidität!$I$14*VLOOKUP(M96,$A$2:$K$102,$T$4,FALSE)/100))","v":{"$error":"#N/A"}},{"$f":"IF(Invalidität!$I$14>Tabelle1!$T$5,0,IF($T$4=10,N96*0.005,IF($T$4=11,N96*0.1,\"\")))","v":{"$error":"#N/A"}},{"$error":"#N/A"}]
[0.95,95,175,185,210,280,325,460,880,100,100,null,0.95,{"$f":"IF(Invalidität!$I$14>$T$5,0,IF(AND($T$4=3,Invalidität!$I$14*(C97-A97*100)/100>200000),Invalidität!$I$14*M97+200000,Invalidität!$I$14*VLOOKUP(M97,$A$2:$K$102,$T$4,FALSE)/100))","v":{"$error":"#N/A"}},{"$f":"IF(Invalidität!$I$14>Tabelle1!$T$5,0,IF($T$4=10,N97*0.005,IF($T$4=11,N97*0.1,\"\")))","v":{"$error":"#N/A"}},{"$error":"#N/A"}]
[0.96,96,180,188,213,284,330,468,904,100,100,null,0.96,{"$f":"IF(Invalidität!$I$14>$T$5,0,IF(AND($T$4=3,Invalidität!$I$14*(C98-A98*100)/100>200000),Invalidität!$I$14*M98+200000,Invalidität!$I$14*VLOOKUP(M98,$A$2:$K$102,$T$4,FALSE)/100))","v":{"$error":"#N/A"}},{"$f":"IF(Invalidität!$I$14>Tabelle1!$T$5,0,IF($T$4=10,N98*0.005,IF($T$4=11,N98*0.1,\"\")))","v":{"$error":"#N/A"}},{"$error":"#N/A"}]
[0.97,97,185,191,216,288,335,476,928,100,100,null,0.97,{"$f":"IF(Invalidität!$I$14>$T$5,0,IF(AND($T$4=3,Invalidität!$I$14*(C99-A99*100)/100>200000),Invalidität!$I$14*M99+200000,Invalidität!$I$14*VLOOKUP(M99,$A$2:$K$102,$T$4,FALSE)/100))","v":{"$error":"#N/A"}},{"$f":"IF(Invalidität!$I$14>Tabelle1!$T$5,0,IF($T$4=10,N99*0.005,IF($T$4=11,N99*0.1,\"\")))","v":{"$error":"#N/A"}},{"$error":"#N/A"}]
[0.98,98,190,194,219,292,340,484,952,100,100,null,0.98,{"$f":"IF(Invalidität!$I$14>$T$5,0,IF(AND($T$4=3,Invalidität!$I$14*(C100-A100*100)/100>200000),Invalidität!$I$14*M100+200000,Invalidität!$I$14*VLOOKUP(M100,$A$2:$K$102,$T$4,FALSE)/100))","v":{"$error":"#N/A"}},{"$f":"IF(Invalidität!$I$14>Tabelle1!$T$5,0,IF($T$4=10,N100*0.005,IF($T$4=11,N100*0.1,\"\")))","v":{"$error":"#N/A"}},{"$error":"#N/A"}]
[0.99,99,195,197,222,296,345,492,976,100,100,null,0.99,{"$f":"IF(Invalidität!$I$14>$T$5,0,IF(AND($T$4=3,Invalidität!$I$14*(C101-A101*100)/100>200000),Invalidität!$I$14*M101+200000,Invalidität!$I$14*VLOOKUP(M101,$A$2:$K$102,$T$4,FALSE)/100))","v":{"$error":"#N/A"}},{"$f":"IF(Invalidität!$I$14>Tabelle1!$T$5,0,IF($T$4=10,N101*0.005,IF($T$4=11,N101*0.1,\"\")))","v":{"$error":"#N/A"}},{"$error":"#N/A"}]
[1,100,200,200,225,300,350,500,1000,100,100,null,1,{"$f":"IF(Invalidität!$I$14>$T$5,0,IF(AND($T$4=3,Invalidität!$I$14*(C102-A102*100)/100>200000),Invalidität!$I$14*M102+200000,Invalidität!$I$14*VLOOKUP(M102,$A$2:$K$102,$T$4,FALSE)/100))","v":{"$error":"#N/A"}},{"$f":"IF(Invalidität!$I$14>Tabelle1!$T$5,0,IF($T$4=10,N102*0.005,IF($T$4=11,N102*0.1,\"\")))","v":{"$error":"#N/A"}},{"$error":"#N/A"}]
["Faktor",1,2,2,2.25,3,3.5,5,10,5.0000000000000001E-3,0.1]
[]
[1,"Kind"]
[2,"Erwachsener"]
[3,"Senior"]
[1,500000,300000,250000,225000,170000,145000,100000,50000,200000,10000]
[2,1000000,800000,500000,450000,350000,290000,200000,100000,400000,20000]
[3,100000,"n/a","n/a","n/a","n/a","n/a","n/a","n/a","n/a",15000]
[]
[null,1,2,3,4,5,6,7,8,9,10]
[null,"  ","Besondere Bedingungen für die Mehrleistung bei schweren Invaliditätsfällen (U 4801:02)","Besondere Bedingungen für die progressive Invaliditätsstaffel − Prog 200 (U 4802:01)","Besondere Bedingungen für die progressive Invaliditätsstaffel − Prog 225 (U 4803:01)","Besondere Bedingungen für die progressive Invaliditätsstaffel − Prog 300 (U 4804:01)","Besondere Bedingungen für die progressive Invaliditätsstaffel − Prog 350 (U 4805:01)","Besondere Bedingungen für die progressive Invaliditätsstaffel − Prog 500 (U 4806:01)","Besondere Bedingungen für die progressive Invaliditätsstaffel − Prog 1000 (U 4807:01)","Besondere Bedingungen für Mehrleistungen bei Invaliditätsgraden über 25 % und zusätzlicher Unfall-Rente (5 ‰) ab mindestens 50 % Invalidität (U 4808:01)","Besondere Bedingungen für Mehrleistungen bei Invaliditätsgraden über 25 % und zusätzlicher Unfall-Rente (10 %) ab mindestens 50 % Invalidität (U 4809:01)"]
[null," ","Führt ein Unfall zu einem Invaliditätsgrad von mehr als 75 %, leisten wir für","Für jeden Prozentpunkt, der den unfallbedingten Invaliditätsgrad von 25 %","Für jeden Prozentpunkt, der den unfallbedingten Invaliditätsgrad von 25 %","Für jeden Prozentpunkt, der den unfallbedingten Invaliditätsgrad von 25 %","Für jeden Prozentpunkt, der den unfallbedingten Invaliditätsgrad von 25 %","Für jeden Prozentpunkt, der den unfallbedingten Invaliditätsgrad von 25 %","Für jeden Prozentpunkt, der den unfallbedingten Invaliditätsgrad von 25 %","Bis zu einem Invaliditätsgrad von 50 % erfolgt die Invaliditätsentschädigung","Bis zu einem Invaliditätsgrad von 50 % erfolgt die Invaliditätsentschädigung"]
[null," ","jedes übersteigende Prozent des Invaliditätsgrades zusätzlich 4 % aus der versicherten","übersteigt, zahlt der Versicherer zusätzlich 1 % aus der Versicherungssumme.","übersteigt, zahlt der Versicherer zusätzlich 1 % aus der Versicherungssumme.","übersteigt, zahlt der Versicherer zusätzlich 2 % aus der Versicherungssumme.","übersteigt, zahlt der Versicherer zusätzlich 2 % aus der Versicherungssumme.","übersteigt, zahlt der Versicherer zusätzlich 2 % aus der Versicherungssumme.","übersteigt, zahlt der Versicherer zusätzlich 4 % aus der Versicherungssumme.","nach dem festgestellten Invaliditätsgrad aus der vereinbarten Versicherungssumme.","nach dem festgestellten Invaliditätsgrad aus der vereinbarten Versicherungssumme."]
[null," ","Invaliditätssumme, höchstens jedoch 200.000 Euro.","Für jeden Prozentpunkt, der den unfallbedingten Invaliditätsgrad von 75 %","Für jeden Prozentpunkt, der den unfallbedingten Invaliditätsgrad von 50 %","Für jeden Prozentpunkt, der den unfallbedingten Invaliditätsgrad von 50 %","Für jeden Prozentpunkt, der den unfallbedingten Invaliditätsgrad von 50 %","Für jeden Prozentpunkt, der den unfallbedingten Invaliditätsgrad von 50 %","Für jeden Prozentpunkt, der den unfallbedingten Invaliditätsgrad von 50 %","Darüber hinaus gilt Folgendes:","Darüber hinaus gilt Folgendes:"]
[null," ","Bestehen für eine versicherte Person bei uns weitere Unfallversicherungen, so","übersteigt, zahlt der Versicherer zusätzlich weitere 1 % aus der Versicherungssumme.","übersteigt, zahlt der Versicherer zusätzlich weitere 1 % aus der Versicherungssumme.","übersteigt, zahlt der Versicherer zusätzlich weitere 1 % aus der Versicherungssumme.","übersteigt, zahlt der Versicherer zusätzlich weitere 2 % aus der Versicherungssumme.","übersteigt, zahlt der Versicherer zusätzlich weitere 5 % aus der Versicherungssumme.","übersteigt, zahlt der Versicherer zusätzlich weitere 5 % aus der Versicherungssumme.","Für Invaliditätsgrade über 25 % bis 50 % werden je Invaliditätsgrad zusätzlich","Für Invaliditätsgrade über 25 % bis 50 % werden je Invaliditätsgrad zusätzlich"]
[null," ","wird die Mehrleistung für alle Verträge zusammen auf 200.000 Euro begrenzt."," "," "," ","  "," ","Für jeden Prozentpunkt, der den unfallbedingten Invaliditätsgrad von 75 %","2 %-Punkte aus der vereinbarten Grundversicherungssumme geleistet.","2 % Punkte aus der vereinbarten Grundversicherungssumme geleistet."]
[null," "," "," "," "," "," "," ","übersteigt, zahlt der Versicherer zusätzlich weitere 14 % aus der Versicherungssumme.","Ab einem Invaliditätsgrad von 50 % und mehr wird demzufolge –","Ab einem Invaliditätsgrad von 50 % und mehr wird demzufolge –"]
[null," "," "," "," "," "," "," "," ","unabhängig vom Invaliditätsgrad – die volle für den Invaliditätsfall vereinbarte","unabhängig vom Invaliditätsgrad – die volle für den Invaliditätsfall vereinbarte"]
[null," "," "," "," "," "," "," "," ","Versicherungssumme als Kapitalentschädigung gezahlt.","Versicherungssumme als Kapitalentschädigung gezahlt."]
[null," "," "," "," "," "," "," "," ","Ab einem Invaliditätsgrad von mindestens 50 % wird zusätzlich – unabhängig","Ab einem Invaliditätsgrad von mindestens 50 % wird zusätzlich – unabhängig"]
[null," "," "," "," "," "," "," "," ","vom Lebensalter des Versicherten – eine monatliche Unfallrente","vom Lebensalter des Versicherten – eine monatliche Unfallrente"]
[null,"  "," "," "," "," "," "," "," ","in Höhe von 5 ‰ der zum Zeitpunkt des Unfalles für den Invaliditätsfall","in Höhe von 10 % der zum Zeitpunkt des Unfalles für den Invaliditätsfall"]
[null," "," "," "," "," "," "," "," ","vereinbarten Grundversicherungssumme gezahlt.","vereinbarten Grundversicherungssumme gezahlt."]

{"sheet":"Invalidität","index":1,"n_rows":42,"n_cols":9,"rows_kept":42,"cut":false,"hidden":false,"merged":[[6,1,7,5],[15,8,18,10],[32,1,33,4]]}
[]
[]
[]
[]
[]
[]
[]
[]
[]
[null,null,null,null,null,null,null,null,"Altersgruppe"]
[null,null,null,null,null,null,null,null,{"$f":"VLOOKUP(H11,Tabelle1!A105:B107,2,FALSE)","v":{"$error":"#N/A"}}]
[]
[null,null,null,null,null,null,null,null,"Invaliditätssumme:"]
[]
[]
[null,null,null,null,null,null,null,null,{"$f":"IF(ISBLANK(I14),\"\",IF(I14>Tabelle1!$T$5,CONCATENATE(\"Die Höchstversicherungssumme von \",TEXT(Tabelle1!$T$5,\"#.##0\"),\" Euro ist überschritten. Bitte Summe korrigieren.\"),IF(Tabelle1!$T$4<10,CONCATENATE(\"Leistung bei Vollinvalidität \",TEXT(Tabelle1!$T$6,\"#.##0\"),\" Euro\"),CONCATENATE(\"monatliche Rentenleistung \",TEXT(Tabelle1!$T$6,\"#.##0\"),\" Euro\"))))","v":""}]
[]
[]
[]
[null,null,null,null,null,null,null,null,"Progression"]
[null,null,null,null,null,null,null,null,{"$f":"VLOOKUP(H21,Tabelle1!V2:W11,2,FALSE)","v":{"$error":"#N/A"}}]
[]
[null,null,null,null,null,null,null,null,{"$f":"IF(Tabelle1!T2<3,\"Alternative Progression\",\"\")","v":"Alternative Progression"}]
[null,null,null,null,null,null,null,null,{"$f":"VLOOKUP(H24,Tabelle1!V2:W9,2,FALSE)","v":{"$error":"#N/A"}}]
[]
[null,null,null,null,null,null,null,null,{"$f":"IF(Tabelle1!T2<3,\"Basis\",\"\")","v":"Basis"}]
[null,null,null,null,null,null,null,null,{"$f":"IF(H27=1,\"gleiche Höchstleistung\",IF(H27=2,\"gleiche Grund-Invalidität\",\"\"))","v":""}]
[]
[null,null,null,null,null,null,null,null,{"$f":"IF(Tabelle1!T9>0,\"Alternative Invaliditätssumme\",\"\")","v":""}]
[null,null,null,null,null,null,null,null,{"$f":"IF(Tabelle1!T9>0,Tabelle1!T10,\"\")","v":""}]
[null,null,null,null,null,null,null,null,{"$f":"IF(Tabelle1!T9>0,IF(I30>Tabelle1!T12,CONCATENATE(\"Die Höchstversicherungssumme von \",TEXT(Tabelle1!T12,\"#.##0\"),\" Euro ist überschritten. Bitte andere Progression wählen.\"),IF(Tabelle1!T8<10,CONCATENATE(\"Leistung bei Vollinvalidität \",TEXT(Tabelle1!T11,\"#.##0\"),\" Euro\"),CONCATENATE(\"monatliche Rentenleistung \",TEXT(Tabelle1!T11,\"#.##0\"),\" Euro\"))),\"\")","v":""}]
[]
[null,{"$f":"IF(Tabelle1!$T$3>0,HLOOKUP(Tabelle1!$T$3,Tabelle1!$B$112:$K$125,2),\"\")","v":""}]
[]
[null,{"$f":"IF(Tabelle1!$T$3>0,HLOOKUP(Tabelle1!$T$3,Tabelle1!$B$112:$K$125,3),\"\")","v":""}]
[null,{"$f":"IF(Tabelle1!$T$3>0,HLOOKUP(Tabelle1!$T$3,Tabelle1!$B$112:$K$125,4),\"\")","v":""}]
[null,{"$f":"IF(Tabelle1!$T$3>0,HLOOKUP(Tabelle1!$T$3,Tabelle1!$B$112:$K$125,5),\"\")","v":""}]
[null,{"$f":"IF(Tabelle1!$T$3>0,HLOOKUP(Tabelle1!$T$3,Tabelle1!$B$112:$K$125,6),\"\")","v":""}]
[null,{"$f":"IF(Tabelle1!$T$3>0,HLOOKUP(Tabelle1!$T$3,Tabelle1!$B$112:$K$125,7),\"\")","v":""}]
[null,{"$f":"IF(Tabelle1!$T$3>0,HLOOKUP(Tabelle1!$T$3,Tabelle1!$B$112:$K$125,8),\"\")","v":""}]
[null,{"$f":"IF(Tabelle1!$T$3>0,HLOOKUP(Tabelle1!$T$3,Tabelle1!$B$112:$K$125,9),\"\")","v":""}]
[null,{"$f":"IF(Tabelle1!$T$3>0,HLOOKUP(Tabelle1!$T$3,Tabelle1!$B$112:$K$125,10),\"\")","v":""}]